BEGIN:VCALENDAR
VERSION:2.0
PRODID:-//NECCHI - ECPv6.15.20//NONSGML v1.0//EN
CALSCALE:GREGORIAN
METHOD:PUBLISH
X-WR-CALNAME:NECCHI
X-ORIGINAL-URL:https://necchi.us
X-WR-CALDESC:Events for NECCHI
REFRESH-INTERVAL;VALUE=DURATION:PT1H
X-Robots-Tag:noindex
X-PUBLISHED-TTL:PT1H
BEGIN:VTIMEZONE
TZID:UTC
BEGIN:STANDARD
TZOFFSETFROM:+0000
TZOFFSETTO:+0000
TZNAME:UTC
DTSTART:20230101T000000
END:STANDARD
END:VTIMEZONE
BEGIN:VEVENT
DTSTART;TZID=UTC:20240829T100000
DTEND;TZID=UTC:20240831T160000
DTSTAMP:20260423T043153
CREATED:20240819T184257Z
LAST-MODIFIED:20240819T185101Z
UID:6284-1724925600-1725120000@necchi.us
SUMMARY:Quilt\, Craft & Sewing Festivals with Cactus Quilt Shop
DESCRIPTION:Come join us at our Festival in Scottsdale – At the Quilt\, Craft & Sewing Festival you will find a wide variety of Sewing\, Quilting\, Needle-Art and Craft supply exhibits from many quality companies.
URL:https://necchi.us/event/quilt-craft-sewing-festivals/
LOCATION:WestWorld of Scottsdale\, 16601 N Pima Rd\, Scottsdale\, AZ\, 85260\, United States
ATTACH;FMTTYPE=image/webp:https://necchi.us/wp-content/uploads/2024/08/WESTWORLD-SCOTTSDALE.webp
END:VEVENT
BEGIN:VEVENT
DTSTART;TZID=UTC:20240320T100000
DTEND;TZID=UTC:20240323T170000
DTSTAMP:20260423T043153
CREATED:20240212T150837Z
LAST-MODIFIED:20240212T151027Z
UID:4087-1710928800-1711213200@necchi.us
SUMMARY:2024 VDTA create + clean EXPO
DESCRIPTION:The annual trade show and convention of the Vacuum and Sewing Dealers Trade Association.
URL:https://necchi.us/event/2024-vdta-create-clean-expo/
LOCATION:Ocean Center Convention Center\, 101 N Atlantic Ave.\, Daytona\, FL\, 32118\, United States
ATTACH;FMTTYPE=image/jpeg:https://necchi.us/wp-content/uploads/2024/02/Ocean-Center-Convention-Center.jpg
END:VEVENT
END:VCALENDAR