BEGIN:VCALENDAR
VERSION:2.0
PRODID:-//NECCHI - ECPv6.15.20//NONSGML v1.0//EN
CALSCALE:GREGORIAN
METHOD:PUBLISH
X-WR-CALNAME:NECCHI
X-ORIGINAL-URL:https://necchi.us
X-WR-CALDESC:Events for NECCHI
REFRESH-INTERVAL;VALUE=DURATION:PT1H
X-Robots-Tag:noindex
X-PUBLISHED-TTL:PT1H
BEGIN:VTIMEZONE
TZID:UTC
BEGIN:STANDARD
TZOFFSETFROM:+0000
TZOFFSETTO:+0000
TZNAME:UTC
DTSTART:20250101T000000
END:STANDARD
END:VTIMEZONE
BEGIN:VEVENT
DTSTART;TZID=UTC:20260619T100000
DTEND;TZID=UTC:20260620T160000
DTSTAMP:20260422T221008
CREATED:20260206T174621Z
LAST-MODIFIED:20260206T174621Z
UID:8524-1781863200-1781971200@necchi.us
SUMMARY:The Woodlands Quilt Show
DESCRIPTION:
URL:https://necchi.us/event/the-woodlands-quilt-show/
LOCATION:Lone Star Convention & Expo Center\, 9055 Airport Rd.\, Conroe\, TX\, 77303\, United States
ATTACH;FMTTYPE=image/jpeg:https://necchi.us/wp-content/uploads/2026/02/WOODLANDS-AREA-QUILT-SHOW.jpg
END:VEVENT
BEGIN:VEVENT
DTSTART;TZID=UTC:20260718T100000
DTEND;TZID=UTC:20260719T150000
DTSTAMP:20260422T221008
CREATED:20260206T171917Z
LAST-MODIFIED:20260206T171917Z
UID:8511-1784368800-1784473200@necchi.us
SUMMARY:Texas Thimble Trail Quilt Show with Sew Blessed Machine Repair
DESCRIPTION:
URL:https://necchi.us/event/texas-thimble-trail-quilt-show-with-sew-blessed-machine-repair/
LOCATION:Walker Country Fair Grounds\, 3925 State Hwy 30\, Huntsville\, TX\, United States
ATTACH;FMTTYPE=image/jpeg:https://necchi.us/wp-content/uploads/2026/02/TEXAS-THIMBLE-TRAIL.jpg
END:VEVENT
BEGIN:VEVENT
DTSTART;TZID=UTC:20260723T090000
DTEND;TZID=UTC:20260725T160000
DTSTAMP:20260422T221008
CREATED:20260206T174856Z
LAST-MODIFIED:20260206T174856Z
UID:8527-1784797200-1784995200@necchi.us
SUMMARY:Maine Quilts
DESCRIPTION:
URL:https://necchi.us/event/maine-quilts/
LOCATION:Augusta Civic Center\, 76 Community Drive\, Augusta\, ME\, United States
ATTACH;FMTTYPE=image/jpeg:https://necchi.us/wp-content/uploads/2026/02/MAINE-QUILTS.jpg
END:VEVENT
BEGIN:VEVENT
DTSTART;TZID=UTC:20260819T090000
DTEND;TZID=UTC:20260822T160000
DTSTAMP:20260422T221008
CREATED:20260226T173938Z
LAST-MODIFIED:20260226T173938Z
UID:8558-1787130000-1787414400@necchi.us
SUMMARY:AQS QuiltWeek Grand Rapids\, MI
DESCRIPTION:
URL:https://necchi.us/event/aqs-quiltweek-grand-rapids-mi/
LOCATION:DeVos Place Convention Center\, 303 Monroe Avenue NW\, Grand Rapids\, MI\, 49503\, United States
ATTACH;FMTTYPE=image/jpeg:https://necchi.us/wp-content/uploads/2026/02/AQS-GRAND-RAPIDS.jpg
END:VEVENT
BEGIN:VEVENT
DTSTART;TZID=UTC:20260910T090000
DTEND;TZID=UTC:20260912T170000
DTSTAMP:20260422T221008
CREATED:20251106T165938Z
LAST-MODIFIED:20251106T165938Z
UID:8194-1789030800-1789232400@necchi.us
SUMMARY:The Great Wisconsin Quilt Show
DESCRIPTION:
URL:https://necchi.us/event/the-great-wisconsin-quilt-show/
LOCATION:Alliant Energy Center\, 1919 Alliant Energy Center Way\, Madison\, WI\, 53713\, United States
ATTACH;FMTTYPE=image/png:https://necchi.us/wp-content/uploads/2025/06/The-Great-Wisconsin-Quilt-Show.png
ORGANIZER;CN="PBS Wisconsin":MAILTO:quiltshow@pbswisconsin.org
END:VEVENT
BEGIN:VEVENT
DTSTART;TZID=UTC:20260923T090000
DTEND;TZID=UTC:20260926T160000
DTSTAMP:20260422T221008
CREATED:20260226T174407Z
LAST-MODIFIED:20260226T174407Z
UID:8561-1790154000-1790438400@necchi.us
SUMMARY:AQS QuiltWeek Columbus\, OH with Quilt N Stuff
DESCRIPTION:
URL:https://necchi.us/event/aqs-quiltweek-columbus-oh-with-quilt-n-stuff/
LOCATION:Greater Columbus Convention Center\, 400 North High Street\, Columbus\, OH\, 43215\, United States
ATTACH;FMTTYPE=image/jpeg:https://necchi.us/wp-content/uploads/2026/02/AQS-COLUMBUS.jpg
END:VEVENT
BEGIN:VEVENT
DTSTART;TZID=UTC:20260930T160000
DTEND;TZID=UTC:20261002T150000
DTSTAMP:20260422T221008
CREATED:20260206T174051Z
LAST-MODIFIED:20260206T174051Z
UID:8521-1790784000-1790953200@necchi.us
SUMMARY:H + H Americas Fall
DESCRIPTION:
URL:https://necchi.us/event/h-h-americas-fall/
LOCATION:NRG Center\, 1 Fannin St.\, Houston\, TX\, 77002\, United States
ATTACH;FMTTYPE=image/jpeg:https://necchi.us/wp-content/uploads/2026/02/HH-FALL.jpg
END:VEVENT
BEGIN:VEVENT
DTSTART;TZID=UTC:20261112T090000
DTEND;TZID=UTC:20261115T180000
DTSTAMP:20260422T221008
CREATED:20251203T212100Z
LAST-MODIFIED:20251203T212602Z
UID:8241-1794474000-1794765600@necchi.us
SUMMARY:HOUSTON QUILT FESTIVAL
DESCRIPTION:
URL:https://necchi.us/event/houston-quilt-festival/
LOCATION:George R. Brown Convention Center\, 1001 Avenida de las Americas\, Houston\, TX\, 77010\, United States
ATTACH;FMTTYPE=image/jpeg:https://necchi.us/wp-content/uploads/2025/12/quilt-festival-icon.jpg
END:VEVENT
END:VCALENDAR