BEGIN:VCALENDAR
VERSION:2.0
PRODID:-//NECCHI - ECPv6.15.20//NONSGML v1.0//EN
CALSCALE:GREGORIAN
METHOD:PUBLISH
X-ORIGINAL-URL:https://necchi.us
X-WR-CALDESC:Events for NECCHI
REFRESH-INTERVAL;VALUE=DURATION:PT1H
X-Robots-Tag:noindex
X-PUBLISHED-TTL:PT1H
BEGIN:VTIMEZONE
TZID:UTC
BEGIN:STANDARD
TZOFFSETFROM:+0000
TZOFFSETTO:+0000
TZNAME:UTC
DTSTART:20250101T000000
END:STANDARD
END:VTIMEZONE
BEGIN:VEVENT
DTSTART;TZID=UTC:20260910T090000
DTEND;TZID=UTC:20260912T170000
DTSTAMP:20260423T003819
CREATED:20251106T165938Z
LAST-MODIFIED:20251106T165938Z
UID:8194-1789030800-1789232400@necchi.us
SUMMARY:The Great Wisconsin Quilt Show
DESCRIPTION:
URL:https://necchi.us/event/the-great-wisconsin-quilt-show/
LOCATION:Alliant Energy Center\, 1919 Alliant Energy Center Way\, Madison\, WI\, 53713\, United States
ATTACH;FMTTYPE=image/png:https://necchi.us/wp-content/uploads/2025/06/The-Great-Wisconsin-Quilt-Show.png
ORGANIZER;CN="PBS Wisconsin":MAILTO:quiltshow@pbswisconsin.org
END:VEVENT
END:VCALENDAR