BEGIN:VCALENDAR
VERSION:2.0
PRODID:-//NECCHI - ECPv6.15.20//NONSGML v1.0//EN
CALSCALE:GREGORIAN
METHOD:PUBLISH
X-ORIGINAL-URL:https://necchi.us
X-WR-CALDESC:Events for NECCHI
REFRESH-INTERVAL;VALUE=DURATION:PT1H
X-Robots-Tag:noindex
X-PUBLISHED-TTL:PT1H
BEGIN:VTIMEZONE
TZID:UTC
BEGIN:STANDARD
TZOFFSETFROM:+0000
TZOFFSETTO:+0000
TZNAME:UTC
DTSTART:20250101T000000
END:STANDARD
END:VTIMEZONE
BEGIN:VEVENT
DTSTART;TZID=UTC:20260819T090000
DTEND;TZID=UTC:20260822T160000
DTSTAMP:20260422T231035
CREATED:20260226T173938Z
LAST-MODIFIED:20260226T173938Z
UID:8558-1787130000-1787414400@necchi.us
SUMMARY:AQS QuiltWeek Grand Rapids\, MI
DESCRIPTION:
URL:https://necchi.us/event/aqs-quiltweek-grand-rapids-mi/
LOCATION:DeVos Place Convention Center\, 303 Monroe Avenue NW\, Grand Rapids\, MI\, 49503\, United States
ATTACH;FMTTYPE=image/jpeg:https://necchi.us/wp-content/uploads/2026/02/AQS-GRAND-RAPIDS.jpg
END:VEVENT
END:VCALENDAR