BEGIN:VCALENDAR
VERSION:2.0
PRODID:-//NECCHI - ECPv6.15.20//NONSGML v1.0//EN
CALSCALE:GREGORIAN
METHOD:PUBLISH
X-WR-CALNAME:NECCHI
X-ORIGINAL-URL:https://necchi.us
X-WR-CALDESC:Events for NECCHI
REFRESH-INTERVAL;VALUE=DURATION:PT1H
X-Robots-Tag:noindex
X-PUBLISHED-TTL:PT1H
BEGIN:VTIMEZONE
TZID:UTC
BEGIN:STANDARD
TZOFFSETFROM:+0000
TZOFFSETTO:+0000
TZNAME:UTC
DTSTART:20250101T000000
END:STANDARD
END:VTIMEZONE
BEGIN:VEVENT
DTSTART;TZID=UTC:20260723T090000
DTEND;TZID=UTC:20260725T160000
DTSTAMP:20260422T214916
CREATED:20260206T174856Z
LAST-MODIFIED:20260206T174856Z
UID:8527-1784797200-1784995200@necchi.us
SUMMARY:Maine Quilts
DESCRIPTION:
URL:https://necchi.us/event/maine-quilts/
LOCATION:Augusta Civic Center\, 76 Community Drive\, Augusta\, ME\, United States
ATTACH;FMTTYPE=image/jpeg:https://necchi.us/wp-content/uploads/2026/02/MAINE-QUILTS.jpg
END:VEVENT
END:VCALENDAR