BEGIN:VCALENDAR
VERSION:2.0
PRODID:-//NECCHI - ECPv6.15.20//NONSGML v1.0//EN
CALSCALE:GREGORIAN
METHOD:PUBLISH
X-WR-CALNAME:NECCHI
X-ORIGINAL-URL:https://necchi.us
X-WR-CALDESC:Events for NECCHI
REFRESH-INTERVAL;VALUE=DURATION:PT1H
X-Robots-Tag:noindex
X-PUBLISHED-TTL:PT1H
BEGIN:VTIMEZONE
TZID:UTC
BEGIN:STANDARD
TZOFFSETFROM:+0000
TZOFFSETTO:+0000
TZNAME:UTC
DTSTART:20250101T000000
END:STANDARD
END:VTIMEZONE
BEGIN:VEVENT
DTSTART;TZID=UTC:20260417T100000
DTEND;TZID=UTC:20260418T160000
DTSTAMP:20260422T173030
CREATED:20260206T172206Z
LAST-MODIFIED:20260206T172206Z
UID:8514-1776420000-1776528000@necchi.us
SUMMARY:Piney Woods Quilt Festival with Sew Blessed Machine Repair
DESCRIPTION:
URL:https://necchi.us/event/piney-woods-quilt-festival-with-sew-blessed-machine-repair/
LOCATION:Carthage Civic Center\, 1702 S Adams St\, Carthage\, TX\, 75633\, United States
ATTACH;FMTTYPE=image/jpeg:https://necchi.us/wp-content/uploads/2026/02/PINEY-WOODS-QUILT-FESTIVAL.jpg
END:VEVENT
END:VCALENDAR