BEGIN:VCALENDAR
VERSION:2.0
PRODID:-//NECCHI - ECPv6.15.20//NONSGML v1.0//EN
CALSCALE:GREGORIAN
METHOD:PUBLISH
X-ORIGINAL-URL:https://necchi.us
X-WR-CALDESC:Events for NECCHI
REFRESH-INTERVAL;VALUE=DURATION:PT1H
X-Robots-Tag:noindex
X-PUBLISHED-TTL:PT1H
BEGIN:VTIMEZONE
TZID:UTC
BEGIN:STANDARD
TZOFFSETFROM:+0000
TZOFFSETTO:+0000
TZNAME:UTC
DTSTART:20250101T000000
END:STANDARD
END:VTIMEZONE
BEGIN:VEVENT
DTSTART;TZID=UTC:20260408T090000
DTEND;TZID=UTC:20260411T160000
DTSTAMP:20260422T173937
CREATED:20260226T175117Z
LAST-MODIFIED:20260226T175117Z
UID:8568-1775638800-1775923200@necchi.us
SUMMARY:AQS QuiltWeek New England with Western Maine Machines
DESCRIPTION:
URL:https://necchi.us/event/aqs-quiltweek-new-england-with-western-maine-machines/
LOCATION:Connecticut Convention Center\, 100 Columbus Blvd\, Hartford\, CT\, 06103\, United States
ATTACH;FMTTYPE=image/jpeg:https://necchi.us/wp-content/uploads/2026/02/AQS-NEW-ENGLAND.jpg
END:VEVENT
BEGIN:VEVENT
DTSTART;TZID=UTC:20260409T090000
DTEND;TZID=UTC:20260411T150000
DTSTAMP:20260422T173937
CREATED:20260403T204543Z
LAST-MODIFIED:20260403T204543Z
UID:8589-1775725200-1775919600@necchi.us
SUMMARY:New England Quilt Expo with Bits'n Pieces
DESCRIPTION:
URL:https://necchi.us/event/new-england-quilt-expo-with-bitsn-pieces/
LOCATION:Double Tree by Hilton\, 700 Elm Street\, Manchester\, NH\, 03101\, United States
ATTACH;FMTTYPE=image/jpeg:https://necchi.us/wp-content/uploads/2026/04/New-England-Quilt-Expo-Bits-n-Pieces.jpg
END:VEVENT
END:VCALENDAR