BEGIN:VCALENDAR
VERSION:2.0
PRODID:-//NECCHI - ECPv6.15.20//NONSGML v1.0//EN
CALSCALE:GREGORIAN
METHOD:PUBLISH
X-ORIGINAL-URL:https://necchi.us
X-WR-CALDESC:Events for NECCHI
REFRESH-INTERVAL;VALUE=DURATION:PT1H
X-Robots-Tag:noindex
X-PUBLISHED-TTL:PT1H
BEGIN:VTIMEZONE
TZID:UTC
BEGIN:STANDARD
TZOFFSETFROM:+0000
TZOFFSETTO:+0000
TZNAME:UTC
DTSTART:20250101T000000
END:STANDARD
END:VTIMEZONE
BEGIN:VEVENT
DTSTART;TZID=UTC:20260120T180000
DTEND;TZID=UTC:20260124T163000
DTSTAMP:20260422T223345
CREATED:20260109T145435Z
LAST-MODIFIED:20260109T193519Z
UID:8447-1768932000-1769272200@necchi.us
SUMMARY:Road to California with Pal's Sewing & Vacuum
DESCRIPTION:Booth 727/729
URL:https://necchi.us/event/road-to-california-with-pals-sewing-vacuum/
LOCATION:Ontario Convention Center\, 2000 E Convention Center Way\, Ontario\, CA\, 91764\, United States
ATTACH;FMTTYPE=image/png:https://necchi.us/wp-content/uploads/2026/01/Road-to-Cali-2026.png
END:VEVENT
END:VCALENDAR