BEGIN:VCALENDAR
VERSION:2.0
PRODID:-//NECCHI - ECPv6.15.20//NONSGML v1.0//EN
CALSCALE:GREGORIAN
METHOD:PUBLISH
X-ORIGINAL-URL:https://necchi.us
X-WR-CALDESC:Events for NECCHI
REFRESH-INTERVAL;VALUE=DURATION:PT1H
X-Robots-Tag:noindex
X-PUBLISHED-TTL:PT1H
BEGIN:VTIMEZONE
TZID:UTC
BEGIN:STANDARD
TZOFFSETFROM:+0000
TZOFFSETTO:+0000
TZNAME:UTC
DTSTART:20240101T000000
END:STANDARD
END:VTIMEZONE
BEGIN:VEVENT
DTSTART;TZID=UTC:20251009T100000
DTEND;TZID=UTC:20251012T160000
DTSTAMP:20260423T033841
CREATED:20250710T205444Z
LAST-MODIFIED:20250710T205444Z
UID:7783-1760004000-1760284800@necchi.us
SUMMARY:Quilt Festival Houston 2025
DESCRIPTION:
URL:https://necchi.us/event/quilt-festival-houston-2025/
LOCATION:George R. Brown Convention Center\, 1001 Avenida de las Americas\, Houston\, TX\, 77010\, United States
ATTACH;FMTTYPE=image/jpeg:https://necchi.us/wp-content/uploads/2025/07/Quilt-Festival-Houston-2025.jpg
END:VEVENT
END:VCALENDAR